BEGIN:VCALENDAR
VERSION:2.0
PRODID:-//NCN Family and Community Wellness Centre - ECPv6.15.20//NONSGML v1.0//EN
CALSCALE:GREGORIAN
METHOD:PUBLISH
X-WR-CALNAME:NCN Family and Community Wellness Centre
X-ORIGINAL-URL:https://www.ncnwellness.ca
X-WR-CALDESC:Events for NCN Family and Community Wellness Centre
REFRESH-INTERVAL;VALUE=DURATION:PT1H
X-Robots-Tag:noindex
X-PUBLISHED-TTL:PT1H
BEGIN:VTIMEZONE
TZID:America/Winnipeg
BEGIN:DAYLIGHT
TZOFFSETFROM:-0600
TZOFFSETTO:-0500
TZNAME:CDT
DTSTART:20240310T080000
END:DAYLIGHT
BEGIN:STANDARD
TZOFFSETFROM:-0500
TZOFFSETTO:-0600
TZNAME:CST
DTSTART:20241103T070000
END:STANDARD
BEGIN:DAYLIGHT
TZOFFSETFROM:-0600
TZOFFSETTO:-0500
TZNAME:CDT
DTSTART:20250309T080000
END:DAYLIGHT
BEGIN:STANDARD
TZOFFSETFROM:-0500
TZOFFSETTO:-0600
TZNAME:CST
DTSTART:20251102T070000
END:STANDARD
BEGIN:DAYLIGHT
TZOFFSETFROM:-0600
TZOFFSETTO:-0500
TZNAME:CDT
DTSTART:20260308T080000
END:DAYLIGHT
BEGIN:STANDARD
TZOFFSETFROM:-0500
TZOFFSETTO:-0600
TZNAME:CST
DTSTART:20261101T070000
END:STANDARD
END:VTIMEZONE
BEGIN:VEVENT
DTSTART;TZID=America/Winnipeg:20251112T130000
DTEND;TZID=America/Winnipeg:20251112T150000
DTSTAMP:20260421T051808
CREATED:20220922T191348Z
LAST-MODIFIED:20220922T191348Z
UID:10000614-1762952400-1762959600@www.ncnwellness.ca
SUMMARY:Canada Prenatal Nutrition Program
DESCRIPTION:Every Wednesday from 1 pm to 3pm at the Wellness Centre.\n\n\n\nCome join our presentations\, cooking classes\, and seminars and receive a voucher for milk\, veggies\, and eggs.\n\n\n\nFor more information contact:\nMartha Templeton\n204-484-2341
URL:https://www.ncnwellness.ca/event/canada-prenatal-nutrition-program/2025-11-12/
LOCATION:NCN Family & Community Wellness Centre\, Nelson House\, Manitoba\, Canada
CATEGORIES:Health & Wellness
ATTACH;FMTTYPE=image/jpeg:https://www.ncnwellness.ca/wp-content/uploads/Pre-Natal-Nutrition-Program.jpg
END:VEVENT
BEGIN:VEVENT
DTSTART;TZID=America/Winnipeg:20251111T181500
DTEND;TZID=America/Winnipeg:20251111T193000
DTSTAMP:20260421T051808
CREATED:20230605T185720Z
LAST-MODIFIED:20230606T160522Z
UID:10001084-1762884900-1762889400@www.ncnwellness.ca
SUMMARY:Telehealth AA Meeting
DESCRIPTION:Held Every Tuesday from 6:15pm to 7:30pm. \nAll are welcome!
URL:https://www.ncnwellness.ca/event/telehealth-aa-meeting/2025-11-11/
LOCATION:Nursing Station\, Telehealth\, Nelson House\, Manitoba\, Canada
CATEGORIES:Health & Wellness
ATTACH;FMTTYPE=image/png:https://www.ncnwellness.ca/wp-content/uploads/Telehealth-AA-Meeting.png
END:VEVENT
BEGIN:VEVENT
DTSTART;TZID=America/Winnipeg:20251110T090000
DTEND;TZID=America/Winnipeg:20251110T110000
DTSTAMP:20260421T051808
CREATED:20220922T191734Z
LAST-MODIFIED:20220922T191734Z
UID:10000405-1762765200-1762772400@www.ncnwellness.ca
SUMMARY:Free Healthy Breakfast for Bloodwork Patients
DESCRIPTION:Every Monday the Wellness Centre is offering a healthy breakfast for patients receiving blood work from 9 am to 11 am.\n\n\n\nFor more information contact:\nMartha Templeton\n204-484-2341
URL:https://www.ncnwellness.ca/event/free-healthy-breakfast-for-bloodwork-patients/2025-11-10/
LOCATION:NCN Family & Community Wellness Centre\, Nelson House\, Manitoba\, Canada
CATEGORIES:Health & Wellness
ATTACH;FMTTYPE=image/jpeg:https://www.ncnwellness.ca/wp-content/uploads/Healthy-Breakfast.jpg
END:VEVENT
BEGIN:VEVENT
DTSTART;TZID=America/Winnipeg:20251106T110000
DTEND;TZID=America/Winnipeg:20251106T150000
DTSTAMP:20260421T051808
CREATED:20220922T192051Z
LAST-MODIFIED:20220922T192051Z
UID:10000822-1762426800-1762441200@www.ncnwellness.ca
SUMMARY:ADI Telehealth
DESCRIPTION:Every Thursday from 11 am to 3 pm.\n\n\n\nFor more information contact:\nMartha Templeton\n204-484-2341
URL:https://www.ncnwellness.ca/event/adi-telehealth/2025-11-06/
LOCATION:NCN Family & Community Wellness Centre\, Nelson House\, Manitoba\, Canada
CATEGORIES:Health & Wellness
ATTACH;FMTTYPE=image/jpeg:https://www.ncnwellness.ca/wp-content/uploads/ADI-Telehealth.jpg
END:VEVENT
BEGIN:VEVENT
DTSTART;TZID=America/Winnipeg:20251105T130000
DTEND;TZID=America/Winnipeg:20251105T150000
DTSTAMP:20260421T051808
CREATED:20220922T191348Z
LAST-MODIFIED:20220922T191348Z
UID:10000613-1762347600-1762354800@www.ncnwellness.ca
SUMMARY:Canada Prenatal Nutrition Program
DESCRIPTION:Every Wednesday from 1 pm to 3pm at the Wellness Centre.\n\n\n\nCome join our presentations\, cooking classes\, and seminars and receive a voucher for milk\, veggies\, and eggs.\n\n\n\nFor more information contact:\nMartha Templeton\n204-484-2341
URL:https://www.ncnwellness.ca/event/canada-prenatal-nutrition-program/2025-11-05/
LOCATION:NCN Family & Community Wellness Centre\, Nelson House\, Manitoba\, Canada
CATEGORIES:Health & Wellness
ATTACH;FMTTYPE=image/jpeg:https://www.ncnwellness.ca/wp-content/uploads/Pre-Natal-Nutrition-Program.jpg
END:VEVENT
BEGIN:VEVENT
DTSTART;TZID=America/Winnipeg:20251104T181500
DTEND;TZID=America/Winnipeg:20251104T193000
DTSTAMP:20260421T051808
CREATED:20230605T185720Z
LAST-MODIFIED:20230606T160522Z
UID:10001083-1762280100-1762284600@www.ncnwellness.ca
SUMMARY:Telehealth AA Meeting
DESCRIPTION:Held Every Tuesday from 6:15pm to 7:30pm. \nAll are welcome!
URL:https://www.ncnwellness.ca/event/telehealth-aa-meeting/2025-11-04/
LOCATION:Nursing Station\, Telehealth\, Nelson House\, Manitoba\, Canada
CATEGORIES:Health & Wellness
ATTACH;FMTTYPE=image/png:https://www.ncnwellness.ca/wp-content/uploads/Telehealth-AA-Meeting.png
END:VEVENT
BEGIN:VEVENT
DTSTART;TZID=America/Winnipeg:20251103T090000
DTEND;TZID=America/Winnipeg:20251103T110000
DTSTAMP:20260421T051808
CREATED:20220922T191734Z
LAST-MODIFIED:20220922T191734Z
UID:10000404-1762160400-1762167600@www.ncnwellness.ca
SUMMARY:Free Healthy Breakfast for Bloodwork Patients
DESCRIPTION:Every Monday the Wellness Centre is offering a healthy breakfast for patients receiving blood work from 9 am to 11 am.\n\n\n\nFor more information contact:\nMartha Templeton\n204-484-2341
URL:https://www.ncnwellness.ca/event/free-healthy-breakfast-for-bloodwork-patients/2025-11-03/
LOCATION:NCN Family & Community Wellness Centre\, Nelson House\, Manitoba\, Canada
CATEGORIES:Health & Wellness
ATTACH;FMTTYPE=image/jpeg:https://www.ncnwellness.ca/wp-content/uploads/Healthy-Breakfast.jpg
END:VEVENT
BEGIN:VEVENT
DTSTART;TZID=America/Winnipeg:20251030T110000
DTEND;TZID=America/Winnipeg:20251030T150000
DTSTAMP:20260421T051808
CREATED:20220922T192051Z
LAST-MODIFIED:20220922T192051Z
UID:10000821-1761822000-1761836400@www.ncnwellness.ca
SUMMARY:ADI Telehealth
DESCRIPTION:Every Thursday from 11 am to 3 pm.\n\n\n\nFor more information contact:\nMartha Templeton\n204-484-2341
URL:https://www.ncnwellness.ca/event/adi-telehealth/2025-10-30/
LOCATION:NCN Family & Community Wellness Centre\, Nelson House\, Manitoba\, Canada
CATEGORIES:Health & Wellness
ATTACH;FMTTYPE=image/jpeg:https://www.ncnwellness.ca/wp-content/uploads/ADI-Telehealth.jpg
END:VEVENT
BEGIN:VEVENT
DTSTART;TZID=America/Winnipeg:20251029T130000
DTEND;TZID=America/Winnipeg:20251029T150000
DTSTAMP:20260421T051808
CREATED:20220922T191348Z
LAST-MODIFIED:20220922T191348Z
UID:10000612-1761742800-1761750000@www.ncnwellness.ca
SUMMARY:Canada Prenatal Nutrition Program
DESCRIPTION:Every Wednesday from 1 pm to 3pm at the Wellness Centre.\n\n\n\nCome join our presentations\, cooking classes\, and seminars and receive a voucher for milk\, veggies\, and eggs.\n\n\n\nFor more information contact:\nMartha Templeton\n204-484-2341
URL:https://www.ncnwellness.ca/event/canada-prenatal-nutrition-program/2025-10-29/
LOCATION:NCN Family & Community Wellness Centre\, Nelson House\, Manitoba\, Canada
CATEGORIES:Health & Wellness
ATTACH;FMTTYPE=image/jpeg:https://www.ncnwellness.ca/wp-content/uploads/Pre-Natal-Nutrition-Program.jpg
END:VEVENT
BEGIN:VEVENT
DTSTART;TZID=America/Winnipeg:20251028T181500
DTEND;TZID=America/Winnipeg:20251028T193000
DTSTAMP:20260421T051808
CREATED:20230605T185720Z
LAST-MODIFIED:20230606T160522Z
UID:10001082-1761675300-1761679800@www.ncnwellness.ca
SUMMARY:Telehealth AA Meeting
DESCRIPTION:Held Every Tuesday from 6:15pm to 7:30pm. \nAll are welcome!
URL:https://www.ncnwellness.ca/event/telehealth-aa-meeting/2025-10-28/
LOCATION:Nursing Station\, Telehealth\, Nelson House\, Manitoba\, Canada
CATEGORIES:Health & Wellness
ATTACH;FMTTYPE=image/png:https://www.ncnwellness.ca/wp-content/uploads/Telehealth-AA-Meeting.png
END:VEVENT
BEGIN:VEVENT
DTSTART;TZID=America/Winnipeg:20251027T090000
DTEND;TZID=America/Winnipeg:20251027T110000
DTSTAMP:20260421T051808
CREATED:20220922T191734Z
LAST-MODIFIED:20220922T191734Z
UID:10000403-1761555600-1761562800@www.ncnwellness.ca
SUMMARY:Free Healthy Breakfast for Bloodwork Patients
DESCRIPTION:Every Monday the Wellness Centre is offering a healthy breakfast for patients receiving blood work from 9 am to 11 am.\n\n\n\nFor more information contact:\nMartha Templeton\n204-484-2341
URL:https://www.ncnwellness.ca/event/free-healthy-breakfast-for-bloodwork-patients/2025-10-27/
LOCATION:NCN Family & Community Wellness Centre\, Nelson House\, Manitoba\, Canada
CATEGORIES:Health & Wellness
ATTACH;FMTTYPE=image/jpeg:https://www.ncnwellness.ca/wp-content/uploads/Healthy-Breakfast.jpg
END:VEVENT
BEGIN:VEVENT
DTSTART;TZID=America/Winnipeg:20251023T110000
DTEND;TZID=America/Winnipeg:20251023T150000
DTSTAMP:20260421T051808
CREATED:20220922T192051Z
LAST-MODIFIED:20220922T192051Z
UID:10000820-1761217200-1761231600@www.ncnwellness.ca
SUMMARY:ADI Telehealth
DESCRIPTION:Every Thursday from 11 am to 3 pm.\n\n\n\nFor more information contact:\nMartha Templeton\n204-484-2341
URL:https://www.ncnwellness.ca/event/adi-telehealth/2025-10-23/
LOCATION:NCN Family & Community Wellness Centre\, Nelson House\, Manitoba\, Canada
CATEGORIES:Health & Wellness
ATTACH;FMTTYPE=image/jpeg:https://www.ncnwellness.ca/wp-content/uploads/ADI-Telehealth.jpg
END:VEVENT
BEGIN:VEVENT
DTSTART;TZID=America/Winnipeg:20251022T130000
DTEND;TZID=America/Winnipeg:20251022T150000
DTSTAMP:20260421T051808
CREATED:20220922T191348Z
LAST-MODIFIED:20220922T191348Z
UID:10000611-1761138000-1761145200@www.ncnwellness.ca
SUMMARY:Canada Prenatal Nutrition Program
DESCRIPTION:Every Wednesday from 1 pm to 3pm at the Wellness Centre.\n\n\n\nCome join our presentations\, cooking classes\, and seminars and receive a voucher for milk\, veggies\, and eggs.\n\n\n\nFor more information contact:\nMartha Templeton\n204-484-2341
URL:https://www.ncnwellness.ca/event/canada-prenatal-nutrition-program/2025-10-22/
LOCATION:NCN Family & Community Wellness Centre\, Nelson House\, Manitoba\, Canada
CATEGORIES:Health & Wellness
ATTACH;FMTTYPE=image/jpeg:https://www.ncnwellness.ca/wp-content/uploads/Pre-Natal-Nutrition-Program.jpg
END:VEVENT
BEGIN:VEVENT
DTSTART;TZID=America/Winnipeg:20251021T181500
DTEND;TZID=America/Winnipeg:20251021T193000
DTSTAMP:20260421T051808
CREATED:20230605T185720Z
LAST-MODIFIED:20230606T160522Z
UID:10001081-1761070500-1761075000@www.ncnwellness.ca
SUMMARY:Telehealth AA Meeting
DESCRIPTION:Held Every Tuesday from 6:15pm to 7:30pm. \nAll are welcome!
URL:https://www.ncnwellness.ca/event/telehealth-aa-meeting/2025-10-21/
LOCATION:Nursing Station\, Telehealth\, Nelson House\, Manitoba\, Canada
CATEGORIES:Health & Wellness
ATTACH;FMTTYPE=image/png:https://www.ncnwellness.ca/wp-content/uploads/Telehealth-AA-Meeting.png
END:VEVENT
BEGIN:VEVENT
DTSTART;TZID=America/Winnipeg:20251020T090000
DTEND;TZID=America/Winnipeg:20251020T110000
DTSTAMP:20260421T051808
CREATED:20220922T191734Z
LAST-MODIFIED:20220922T191734Z
UID:10000402-1760950800-1760958000@www.ncnwellness.ca
SUMMARY:Free Healthy Breakfast for Bloodwork Patients
DESCRIPTION:Every Monday the Wellness Centre is offering a healthy breakfast for patients receiving blood work from 9 am to 11 am.\n\n\n\nFor more information contact:\nMartha Templeton\n204-484-2341
URL:https://www.ncnwellness.ca/event/free-healthy-breakfast-for-bloodwork-patients/2025-10-20/
LOCATION:NCN Family & Community Wellness Centre\, Nelson House\, Manitoba\, Canada
CATEGORIES:Health & Wellness
ATTACH;FMTTYPE=image/jpeg:https://www.ncnwellness.ca/wp-content/uploads/Healthy-Breakfast.jpg
END:VEVENT
END:VCALENDAR